BEGIN:VCALENDAR
VERSION:2.0
PRODID:-//Plone.org//NONSGML plone.app.event//EN
X-WR-TIMEZONE:Europe/Madrid
BEGIN:VEVENT
SUMMARY:Entrega del web del KEMLG
DTSTART;TZID=Europe/Madrid:20090522T000000
DTEND;TZID=Europe/Madrid:20090527T000000
DTSTAMP:20260424T031344Z
UID:c57041ec612c73fe75034ede33a9371b@peter2pre.upc.edu:11002
CREATED:20081222T152000Z
LAST-MODIFIED:20081222T152000Z
LOCATION:Barcelona
URL:https://kemlg.upc.edu/en/esdeveniments/entrega-del-web-del-kemlg
END:VEVENT
BEGIN:VTIMEZONE
TZID:Europe/Madrid
X-LIC-LOCATION:Europe/Madrid
BEGIN:DAYLIGHT
DTSTART:20090329T030000
TZNAME:CEST
TZOFFSETFROM:+0100
TZOFFSETTO:+0200
END:DAYLIGHT
END:VTIMEZONE
END:VCALENDAR
